BEGIN:VCALENDAR
VERSION:2.0
PRODID:-//Renaissance and Early Modern Studies - ECPv6.15.16//NONSGML v1.0//EN
CALSCALE:GREGORIAN
METHOD:PUBLISH
X-WR-CALNAME:Renaissance and Early Modern Studies
X-ORIGINAL-URL:https://renaissance.princeton.edu
X-WR-CALDESC:Events for Renaissance and Early Modern Studies
REFRESH-INTERVAL;VALUE=DURATION:PT1H
X-Robots-Tag:noindex
X-PUBLISHED-TTL:PT1H
BEGIN:VTIMEZONE
TZID:America/New_York
BEGIN:DAYLIGHT
TZOFFSETFROM:-0500
TZOFFSETTO:-0400
TZNAME:EDT
DTSTART:20220313T070000
END:DAYLIGHT
BEGIN:STANDARD
TZOFFSETFROM:-0400
TZOFFSETTO:-0500
TZNAME:EST
DTSTART:20221106T060000
END:STANDARD
BEGIN:DAYLIGHT
TZOFFSETFROM:-0500
TZOFFSETTO:-0400
TZNAME:EDT
DTSTART:20230312T070000
END:DAYLIGHT
BEGIN:STANDARD
TZOFFSETFROM:-0400
TZOFFSETTO:-0500
TZNAME:EST
DTSTART:20231105T060000
END:STANDARD
BEGIN:DAYLIGHT
TZOFFSETFROM:-0500
TZOFFSETTO:-0400
TZNAME:EDT
DTSTART:20240310T070000
END:DAYLIGHT
BEGIN:STANDARD
TZOFFSETFROM:-0400
TZOFFSETTO:-0500
TZNAME:EST
DTSTART:20241103T060000
END:STANDARD
END:VTIMEZONE
BEGIN:VEVENT
DTSTART;TZID=America/New_York:20230913T113000
DTEND;TZID=America/New_York:20230913T130000
DTSTAMP:20260421T041133
CREATED:20230724T182219Z
LAST-MODIFIED:20230724T182219Z
UID:1316-1694604600-1694610000@renaissance.princeton.edu
SUMMARY:Fictional Realism–What our Relationship to the Non-Existing Teaches Us About Reality
DESCRIPTION:Lunch talk with Marcus Gabriel. \nPlease RSVP to blleavey@princeton.edu if you plan to attend.
URL:https://renaissance.princeton.edu/event/fictional-realism-what-our-relationship-to-the-non-existing-teaches-us-about-reality/
LOCATION:Julis Romo Rabinowitz Building – A17\, Washington Road\, Princeton\, United States
ATTACH;FMTTYPE=image/jpeg:https://renaissance.princeton.edu/wp-content/uploads/sites/11/2023/07/imageMarcusGabriel1.jpg
END:VEVENT
END:VCALENDAR